BEGIN:VCALENDAR
VERSION:2.0
PRODID:-//Level One Band - ECPv6.15.20//NONSGML v1.0//EN
CALSCALE:GREGORIAN
METHOD:PUBLISH
X-WR-CALNAME:Level One Band
X-ORIGINAL-URL:https://leveloneband.com
X-WR-CALDESC:Events for Level One Band
REFRESH-INTERVAL;VALUE=DURATION:PT1H
X-Robots-Tag:noindex
X-PUBLISHED-TTL:PT1H
BEGIN:VTIMEZONE
TZID:America/Chicago
BEGIN:DAYLIGHT
TZOFFSETFROM:-0600
TZOFFSETTO:-0500
TZNAME:CDT
DTSTART:20210314T080000
END:DAYLIGHT
BEGIN:STANDARD
TZOFFSETFROM:-0500
TZOFFSETTO:-0600
TZNAME:CST
DTSTART:20211107T070000
END:STANDARD
BEGIN:DAYLIGHT
TZOFFSETFROM:-0600
TZOFFSETTO:-0500
TZNAME:CDT
DTSTART:20220313T080000
END:DAYLIGHT
BEGIN:STANDARD
TZOFFSETFROM:-0500
TZOFFSETTO:-0600
TZNAME:CST
DTSTART:20221106T070000
END:STANDARD
BEGIN:DAYLIGHT
TZOFFSETFROM:-0600
TZOFFSETTO:-0500
TZNAME:CDT
DTSTART:20230312T080000
END:DAYLIGHT
BEGIN:STANDARD
TZOFFSETFROM:-0500
TZOFFSETTO:-0600
TZNAME:CST
DTSTART:20231105T070000
END:STANDARD
BEGIN:DAYLIGHT
TZOFFSETFROM:-0600
TZOFFSETTO:-0500
TZNAME:CDT
DTSTART:20240310T080000
END:DAYLIGHT
BEGIN:STANDARD
TZOFFSETFROM:-0500
TZOFFSETTO:-0600
TZNAME:CST
DTSTART:20241103T070000
END:STANDARD
END:VTIMEZONE
BEGIN:VEVENT
DTSTART;TZID=America/Chicago:20230318T180000
DTEND;TZID=America/Chicago:20230318T210000
DTSTAMP:20260420T023616
CREATED:20220729T174716Z
LAST-MODIFIED:20220729T174716Z
UID:3607-1679162400-1679173200@leveloneband.com
SUMMARY:Wild Stallion Vineyard
DESCRIPTION:
URL:https://leveloneband.com/event/wild-stallion-vineyard/
LOCATION:Wild Stallion Vineyard\, 5969 W Rayford Rd\, Spring\, TX\, 77389\, United States
END:VEVENT
BEGIN:VEVENT
DTSTART;TZID=America/Chicago:20230310T210000
DTEND;TZID=America/Chicago:20230311T000000
DTSTAMP:20260420T023616
CREATED:20230106T180410Z
LAST-MODIFIED:20230106T180410Z
UID:3678-1678482000-1678492800@leveloneband.com
SUMMARY:FireSide
DESCRIPTION:
URL:https://leveloneband.com/event/fireside-10/
LOCATION:Fireside Bar & Grill\, 800 Sorella Ct\, Houston\, TX\, 77024\, United States
END:VEVENT
BEGIN:VEVENT
DTSTART;TZID=America/Chicago:20230225T210000
DTEND;TZID=America/Chicago:20230226T000000
DTSTAMP:20260420T023616
CREATED:20221103T235601Z
LAST-MODIFIED:20221103T235601Z
UID:3659-1677358800-1677369600@leveloneband.com
SUMMARY:B Jiggers
DESCRIPTION:
URL:https://leveloneband.com/event/b-jiggers-9/
LOCATION:B JIGGERs NIGHT CLUB\, 5002 Seawall Blvd\, Galveston\, TX\, United States
END:VEVENT
BEGIN:VEVENT
DTSTART;TZID=America/Chicago:20230218T210000
DTEND;TZID=America/Chicago:20230219T000000
DTSTAMP:20260420T023616
CREATED:20230202T220303Z
LAST-MODIFIED:20230202T220303Z
UID:3688-1676754000-1676764800@leveloneband.com
SUMMARY:Rhythm Room
DESCRIPTION:
URL:https://leveloneband.com/event/rhythm-room-5/
LOCATION:Rhythm Room\, 5535 Memorial Dr\, Suite G\, Houston\, TX\, 77007\, United States
END:VEVENT
BEGIN:VEVENT
DTSTART;TZID=America/Chicago:20230127T200000
DTEND;TZID=America/Chicago:20230128T000000
DTSTAMP:20260420T023616
CREATED:20221212T173146Z
LAST-MODIFIED:20221212T173146Z
UID:3676-1674849600-1674864000@leveloneband.com
SUMMARY:SamBuca
DESCRIPTION:
URL:https://leveloneband.com/event/sambuca-13/
LOCATION:Sambuca\, 909 Texas Ave\, Houston\, 77002\, United States
END:VEVENT
BEGIN:VEVENT
DTSTART;TZID=America/Chicago:20221223T210000
DTEND;TZID=America/Chicago:20221224T000000
DTSTAMP:20260420T023616
CREATED:20221203T124429Z
LAST-MODIFIED:20221203T124730Z
UID:3667-1671829200-1671840000@leveloneband.com
SUMMARY:FireSide
DESCRIPTION:
URL:https://leveloneband.com/event/fireside-9/
LOCATION:Fireside Bar & Grill\, 800 Sorella Ct\, Houston\, TX\, 77024\, United States
END:VEVENT
BEGIN:VEVENT
DTSTART;TZID=America/Chicago:20221210T210000
DTEND;TZID=America/Chicago:20221211T010000
DTSTAMP:20260420T023616
CREATED:20221003T114837Z
LAST-MODIFIED:20221003T114837Z
UID:3656-1670706000-1670720400@leveloneband.com
SUMMARY:Cheers
DESCRIPTION:
URL:https://leveloneband.com/event/cheers/
LOCATION:Cheers Tomball\, 916 West Main Street\, Tomball\, TX\, 77375\, United States
END:VEVENT
BEGIN:VEVENT
DTSTART;TZID=America/Chicago:20221126T210000
DTEND;TZID=America/Chicago:20221127T000000
DTSTAMP:20260420T023616
CREATED:20220829T224535Z
LAST-MODIFIED:20220829T224535Z
UID:3637-1669496400-1669507200@leveloneband.com
SUMMARY:B Jiggers
DESCRIPTION:
URL:https://leveloneband.com/event/b-jiggers-8/
LOCATION:B JIGGERs NIGHT CLUB\, 5002 Seawall Blvd\, Galveston\, TX\, United States
END:VEVENT
BEGIN:VEVENT
DTSTART;TZID=America/Chicago:20221125T200000
DTEND;TZID=America/Chicago:20221126T000000
DTSTAMP:20260420T023616
CREATED:20220928T174954Z
LAST-MODIFIED:20220928T213034Z
UID:3653-1669406400-1669420800@leveloneband.com
SUMMARY:SamBuca
DESCRIPTION:
URL:https://leveloneband.com/event/sambuca-12/
LOCATION:Sambuca\, 909 Texas Ave\, Houston\, 77002\, United States
END:VEVENT
BEGIN:VEVENT
DTSTART;TZID=America/Chicago:20221112T210000
DTEND;TZID=America/Chicago:20221113T000000
DTSTAMP:20260420T023616
CREATED:20220808T143510Z
LAST-MODIFIED:20220808T143510Z
UID:3623-1668286800-1668297600@leveloneband.com
SUMMARY:FireSide
DESCRIPTION:
URL:https://leveloneband.com/event/fireside-8/
LOCATION:TX
END:VEVENT
BEGIN:VEVENT
DTSTART;TZID=America/Chicago:20221016T150000
DTEND;TZID=America/Chicago:20221016T170000
DTSTAMP:20260420T023616
CREATED:20220829T224711Z
LAST-MODIFIED:20220829T224711Z
UID:3639-1665932400-1665939600@leveloneband.com
SUMMARY:Lady of Guadalupe
DESCRIPTION:
URL:https://leveloneband.com/event/lady-of-guadalupe-2/
LOCATION:Lady of Guadalupe\, 2405 Navigation Blvd.\, Houston\, 77003\, United States
END:VEVENT
BEGIN:VEVENT
DTSTART;TZID=America/Chicago:20221015T193000
DTEND;TZID=America/Chicago:20221015T233000
DTSTAMP:20260420T023616
CREATED:20220819T185153Z
LAST-MODIFIED:20220819T185153Z
UID:3626-1665862200-1665876600@leveloneband.com
SUMMARY:SamBuca
DESCRIPTION:
URL:https://leveloneband.com/event/sambuca-11/
LOCATION:Sambuca\, 909 Texas Ave\, Houston\, 77002\, United States
END:VEVENT
BEGIN:VEVENT
DTSTART;TZID=America/Chicago:20221001T200000
DTEND;TZID=America/Chicago:20221001T220000
DTSTAMP:20260420T023616
CREATED:20220907T021053Z
LAST-MODIFIED:20220907T021053Z
UID:3648-1664654400-1664661600@leveloneband.com
SUMMARY:Bday Celebration
DESCRIPTION:
URL:https://leveloneband.com/event/bday-celebration/
LOCATION:TX
END:VEVENT
BEGIN:VEVENT
DTSTART;TZID=America/Chicago:20220924T210000
DTEND;TZID=America/Chicago:20220925T000000
DTSTAMP:20260420T023616
CREATED:20220729T174419Z
LAST-MODIFIED:20220729T174419Z
UID:3598-1664053200-1664064000@leveloneband.com
SUMMARY:B Jiggers
DESCRIPTION:
URL:https://leveloneband.com/event/b-jiggers-7/
LOCATION:TX
END:VEVENT
BEGIN:VEVENT
DTSTART;VALUE=DATE:20220923
DTEND;VALUE=DATE:20220924
DTSTAMP:20260420T023616
CREATED:20220729T174306Z
LAST-MODIFIED:20220729T174306Z
UID:3594-1663891200-1663977599@leveloneband.com
SUMMARY:U of H
DESCRIPTION:
URL:https://leveloneband.com/event/u-of-h/
LOCATION:U of H\, 3874 Holman St\, Houston\, TX\, 77004\, United States
END:VEVENT
BEGIN:VEVENT
DTSTART;TZID=America/Chicago:20220916T190000
DTEND;TZID=America/Chicago:20220916T230000
DTSTAMP:20260420T023616
CREATED:20220804T133506Z
LAST-MODIFIED:20220804T133506Z
UID:3615-1663354800-1663369200@leveloneband.com
SUMMARY:Nauti Mikes
DESCRIPTION:
URL:https://leveloneband.com/event/nauti-mikes/
LOCATION:Nauti Mikes\, 625 HWY 146\, Kemah\, TX\, 77565\, United States
END:VEVENT
BEGIN:VEVENT
DTSTART;TZID=America/Chicago:20220910T210000
DTEND;TZID=America/Chicago:20220911T000000
DTSTAMP:20260420T023616
CREATED:20220906T224332Z
LAST-MODIFIED:20220907T021025Z
UID:3646-1662843600-1662854400@leveloneband.com
SUMMARY:Katy Vibes
DESCRIPTION:
URL:https://leveloneband.com/event/katy-vibes-5/
LOCATION:Katy Vibes\, 24757 Katy Frwy Katy\, TX\, 77494\, United States
END:VEVENT
BEGIN:VEVENT
DTSTART;TZID=America/Chicago:20220910T163000
DTEND;TZID=America/Chicago:20220910T180000
DTSTAMP:20260420T023616
CREATED:20220620T185222Z
LAST-MODIFIED:20220902T211629Z
UID:3585-1662827400-1662832800@leveloneband.com
SUMMARY:Big Rivers Water Park
DESCRIPTION:
URL:https://leveloneband.com/event/big-rivers-water-park-3/
LOCATION:Big Rivers Water Park\, 23101 Highway 242\, New Caney\, TX\, 77357\, United States
END:VEVENT
BEGIN:VEVENT
DTSTART;TZID=America/Chicago:20220909T193000
DTEND;TZID=America/Chicago:20220909T233000
DTSTAMP:20260420T023616
CREATED:20220729T174223Z
LAST-MODIFIED:20220729T174223Z
UID:3591-1662751800-1662766200@leveloneband.com
SUMMARY:SamBuca
DESCRIPTION:
URL:https://leveloneband.com/event/sambuca-10/
LOCATION:Sambuca\, 909 Texas Ave\, Houston\, 77002\, United States
END:VEVENT
BEGIN:VEVENT
DTSTART;TZID=America/Chicago:20220820T163000
DTEND;TZID=America/Chicago:20220820T180000
DTSTAMP:20260420T023616
CREATED:20220620T185158Z
LAST-MODIFIED:20220620T185158Z
UID:3582-1661013000-1661018400@leveloneband.com
SUMMARY:Big Rivers Water Park
DESCRIPTION:
URL:https://leveloneband.com/event/big-rivers-water-park-2/
LOCATION:Big Rivers Water Park\, 23101 Highway 242\, New Caney\, TX\, 77357\, United States
END:VEVENT
BEGIN:VEVENT
DTSTART;TZID=America/Chicago:20220806T210000
DTEND;TZID=America/Chicago:20220807T000000
DTSTAMP:20260420T023616
CREATED:20220629T015655Z
LAST-MODIFIED:20220629T015655Z
UID:3588-1659819600-1659830400@leveloneband.com
SUMMARY:Rhythm Room
DESCRIPTION:
URL:https://leveloneband.com/event/rhythm-room-4/
LOCATION:Rhythm Room\, 5535 Memorial Dr\, Suite G\, Houston\, TX\, 77007\, United States
END:VEVENT
BEGIN:VEVENT
DTSTART;TZID=America/Chicago:20220716T210000
DTEND;TZID=America/Chicago:20220717T000000
DTSTAMP:20260420T023616
CREATED:20220310T184503Z
LAST-MODIFIED:20220617T192349Z
UID:3528-1658005200-1658016000@leveloneband.com
SUMMARY:Katy Vibes
DESCRIPTION:
URL:https://leveloneband.com/event/katy-vibes-4/
LOCATION:Katy Vibes\, 24757 Katy Frwy Katy\, TX\, 77494\, United States
END:VEVENT
BEGIN:VEVENT
DTSTART;TZID=America/Chicago:20220702T163000
DTEND;TZID=America/Chicago:20220702T180000
DTSTAMP:20260420T023616
CREATED:20220620T185118Z
LAST-MODIFIED:20220620T185118Z
UID:3579-1656779400-1656784800@leveloneband.com
SUMMARY:Big Rivers Water Park
DESCRIPTION:
URL:https://leveloneband.com/event/big-rivers-water-park/
LOCATION:Big Rivers Water Park\, 23101 Highway 242\, New Caney\, TX\, 77357\, United States
END:VEVENT
BEGIN:VEVENT
DTSTART;TZID=America/Chicago:20220701T193000
DTEND;TZID=America/Chicago:20220701T233000
DTSTAMP:20260420T023616
CREATED:20220615T235014Z
LAST-MODIFIED:20220615T235014Z
UID:3573-1656703800-1656718200@leveloneband.com
SUMMARY:Sambuca
DESCRIPTION:
URL:https://leveloneband.com/event/sambuca-9/
LOCATION:Sambuca\, 909 Texas Ave\, Houston\, 77002\, United States
END:VEVENT
BEGIN:VEVENT
DTSTART;TZID=America/Chicago:20220618T210000
DTEND;TZID=America/Chicago:20220619T000000
DTSTAMP:20260420T023616
CREATED:20220519T192444Z
LAST-MODIFIED:20220519T192444Z
UID:3566-1655586000-1655596800@leveloneband.com
SUMMARY:FireSide
DESCRIPTION:
URL:https://leveloneband.com/event/fireside-7/
LOCATION:Fireside Bar & Grill\, 800 Sorella Ct\, Houston\, TX\, 77024\, United States
END:VEVENT
BEGIN:VEVENT
DTSTART;TZID=America/Chicago:20220604T210000
DTEND;TZID=America/Chicago:20220605T000000
DTSTAMP:20260420T023616
CREATED:20220524T115942Z
LAST-MODIFIED:20220524T115942Z
UID:3570-1654376400-1654387200@leveloneband.com
SUMMARY:Rhythm Room
DESCRIPTION:
URL:https://leveloneband.com/event/rhythm-room-3/
LOCATION:Rhythm Room\, 5535 Memorial Dr\, Suite G\, Houston\, TX\, 77007\, United States
END:VEVENT
BEGIN:VEVENT
DTSTART;TZID=America/Chicago:20220529T170000
DTEND;TZID=America/Chicago:20220529T210000
DTSTAMP:20260420T023616
CREATED:20210722T181358Z
LAST-MODIFIED:20220512T211107Z
UID:3331-1653843600-1653858000@leveloneband.com
SUMMARY:Town Green Park
DESCRIPTION:
URL:https://leveloneband.com/event/town-green-park/
LOCATION:Town Green Park\, 2099 Lake Robbins Dr\, The Woodlands\, TX\, 77380\, United States
END:VEVENT
BEGIN:VEVENT
DTSTART;TZID=America/Chicago:20220515T150000
DTEND;TZID=America/Chicago:20220515T170000
DTSTAMP:20260420T023616
CREATED:20220414T215353Z
LAST-MODIFIED:20220414T215353Z
UID:3546-1652626800-1652634000@leveloneband.com
SUMMARY:Lady of Guadalupe
DESCRIPTION:
URL:https://leveloneband.com/event/lady-of-guadalupe/
LOCATION:Lady of Guadalupe\, 2405 Navigation Blvd.\, Houston\, 77003\, United States
END:VEVENT
BEGIN:VEVENT
DTSTART;TZID=America/Chicago:20220514T210000
DTEND;TZID=America/Chicago:20220515T000000
DTSTAMP:20260420T023616
CREATED:20220510T192616Z
LAST-MODIFIED:20220510T192616Z
UID:3563-1652562000-1652572800@leveloneband.com
SUMMARY:Rhythm Room
DESCRIPTION:
URL:https://leveloneband.com/event/rhythm-room-2/
LOCATION:Rhythm Room\, 5535 Memorial Dr\, Suite G\, Houston\, TX\, 77007\, United States
END:VEVENT
BEGIN:VEVENT
DTSTART;TZID=America/Chicago:20220513T210000
DTEND;TZID=America/Chicago:20220514T000000
DTSTAMP:20260420T023616
CREATED:20220430T231320Z
LAST-MODIFIED:20220503T010710Z
UID:3557-1652475600-1652486400@leveloneband.com
SUMMARY:Dusse' SportsBar & Lounge
DESCRIPTION:
URL:https://leveloneband.com/event/dusse-sportsbar-lounge/
LOCATION:Dusse’ SportsBar & Lounge\, 324 FM 1960 Rd East\, Houston\, TX\, 77073\, United States
END:VEVENT
END:VCALENDAR