BEGIN:VCALENDAR
VERSION:2.0
PRODID:-//Level One Band - ECPv6.15.20//NONSGML v1.0//EN
CALSCALE:GREGORIAN
METHOD:PUBLISH
X-WR-CALNAME:Level One Band
X-ORIGINAL-URL:https://leveloneband.com
X-WR-CALDESC:Events for Level One Band
REFRESH-INTERVAL;VALUE=DURATION:PT1H
X-Robots-Tag:noindex
X-PUBLISHED-TTL:PT1H
BEGIN:VTIMEZONE
TZID:America/Chicago
BEGIN:DAYLIGHT
TZOFFSETFROM:-0600
TZOFFSETTO:-0500
TZNAME:CDT
DTSTART:20200308T080000
END:DAYLIGHT
BEGIN:STANDARD
TZOFFSETFROM:-0500
TZOFFSETTO:-0600
TZNAME:CST
DTSTART:20201101T070000
END:STANDARD
BEGIN:DAYLIGHT
TZOFFSETFROM:-0600
TZOFFSETTO:-0500
TZNAME:CDT
DTSTART:20210314T080000
END:DAYLIGHT
BEGIN:STANDARD
TZOFFSETFROM:-0500
TZOFFSETTO:-0600
TZNAME:CST
DTSTART:20211107T070000
END:STANDARD
BEGIN:DAYLIGHT
TZOFFSETFROM:-0600
TZOFFSETTO:-0500
TZNAME:CDT
DTSTART:20220313T080000
END:DAYLIGHT
BEGIN:STANDARD
TZOFFSETFROM:-0500
TZOFFSETTO:-0600
TZNAME:CST
DTSTART:20221106T070000
END:STANDARD
BEGIN:DAYLIGHT
TZOFFSETFROM:-0600
TZOFFSETTO:-0500
TZNAME:CDT
DTSTART:20230312T080000
END:DAYLIGHT
BEGIN:STANDARD
TZOFFSETFROM:-0500
TZOFFSETTO:-0600
TZNAME:CST
DTSTART:20231105T070000
END:STANDARD
END:VTIMEZONE
BEGIN:VEVENT
DTSTART;TZID=America/Chicago:20220716T210000
DTEND;TZID=America/Chicago:20220717T000000
DTSTAMP:20260420T192117
CREATED:20220310T184503Z
LAST-MODIFIED:20220617T192349Z
UID:3528-1658005200-1658016000@leveloneband.com
SUMMARY:Katy Vibes
DESCRIPTION:
URL:https://leveloneband.com/event/katy-vibes-4/
LOCATION:Katy Vibes\, 24757 Katy Frwy Katy\, TX\, 77494\, United States
END:VEVENT
BEGIN:VEVENT
DTSTART;TZID=America/Chicago:20220702T163000
DTEND;TZID=America/Chicago:20220702T180000
DTSTAMP:20260420T192117
CREATED:20220620T185118Z
LAST-MODIFIED:20220620T185118Z
UID:3579-1656779400-1656784800@leveloneband.com
SUMMARY:Big Rivers Water Park
DESCRIPTION:
URL:https://leveloneband.com/event/big-rivers-water-park/
LOCATION:Big Rivers Water Park\, 23101 Highway 242\, New Caney\, TX\, 77357\, United States
END:VEVENT
BEGIN:VEVENT
DTSTART;TZID=America/Chicago:20220701T193000
DTEND;TZID=America/Chicago:20220701T233000
DTSTAMP:20260420T192117
CREATED:20220615T235014Z
LAST-MODIFIED:20220615T235014Z
UID:3573-1656703800-1656718200@leveloneband.com
SUMMARY:Sambuca
DESCRIPTION:
URL:https://leveloneband.com/event/sambuca-9/
LOCATION:Sambuca\, 909 Texas Ave\, Houston\, 77002\, United States
END:VEVENT
BEGIN:VEVENT
DTSTART;TZID=America/Chicago:20220618T210000
DTEND;TZID=America/Chicago:20220619T000000
DTSTAMP:20260420T192117
CREATED:20220519T192444Z
LAST-MODIFIED:20220519T192444Z
UID:3566-1655586000-1655596800@leveloneband.com
SUMMARY:FireSide
DESCRIPTION:
URL:https://leveloneband.com/event/fireside-7/
LOCATION:Fireside Bar & Grill\, 800 Sorella Ct\, Houston\, TX\, 77024\, United States
END:VEVENT
BEGIN:VEVENT
DTSTART;TZID=America/Chicago:20220604T210000
DTEND;TZID=America/Chicago:20220605T000000
DTSTAMP:20260420T192117
CREATED:20220524T115942Z
LAST-MODIFIED:20220524T115942Z
UID:3570-1654376400-1654387200@leveloneband.com
SUMMARY:Rhythm Room
DESCRIPTION:
URL:https://leveloneband.com/event/rhythm-room-3/
LOCATION:Rhythm Room\, 5535 Memorial Dr\, Suite G\, Houston\, TX\, 77007\, United States
END:VEVENT
BEGIN:VEVENT
DTSTART;TZID=America/Chicago:20220529T170000
DTEND;TZID=America/Chicago:20220529T210000
DTSTAMP:20260420T192117
CREATED:20210722T181358Z
LAST-MODIFIED:20220512T211107Z
UID:3331-1653843600-1653858000@leveloneband.com
SUMMARY:Town Green Park
DESCRIPTION:
URL:https://leveloneband.com/event/town-green-park/
LOCATION:Town Green Park\, 2099 Lake Robbins Dr\, The Woodlands\, TX\, 77380\, United States
END:VEVENT
BEGIN:VEVENT
DTSTART;TZID=America/Chicago:20220515T150000
DTEND;TZID=America/Chicago:20220515T170000
DTSTAMP:20260420T192117
CREATED:20220414T215353Z
LAST-MODIFIED:20220414T215353Z
UID:3546-1652626800-1652634000@leveloneband.com
SUMMARY:Lady of Guadalupe
DESCRIPTION:
URL:https://leveloneband.com/event/lady-of-guadalupe/
LOCATION:Lady of Guadalupe\, 2405 Navigation Blvd.\, Houston\, 77003\, United States
END:VEVENT
BEGIN:VEVENT
DTSTART;TZID=America/Chicago:20220514T210000
DTEND;TZID=America/Chicago:20220515T000000
DTSTAMP:20260420T192117
CREATED:20220510T192616Z
LAST-MODIFIED:20220510T192616Z
UID:3563-1652562000-1652572800@leveloneband.com
SUMMARY:Rhythm Room
DESCRIPTION:
URL:https://leveloneband.com/event/rhythm-room-2/
LOCATION:Rhythm Room\, 5535 Memorial Dr\, Suite G\, Houston\, TX\, 77007\, United States
END:VEVENT
BEGIN:VEVENT
DTSTART;TZID=America/Chicago:20220513T210000
DTEND;TZID=America/Chicago:20220514T000000
DTSTAMP:20260420T192117
CREATED:20220430T231320Z
LAST-MODIFIED:20220503T010710Z
UID:3557-1652475600-1652486400@leveloneband.com
SUMMARY:Dusse' SportsBar & Lounge
DESCRIPTION:
URL:https://leveloneband.com/event/dusse-sportsbar-lounge/
LOCATION:Dusse’ SportsBar & Lounge\, 324 FM 1960 Rd East\, Houston\, TX\, 77073\, United States
END:VEVENT
BEGIN:VEVENT
DTSTART;TZID=America/Chicago:20220508T190000
DTEND;TZID=America/Chicago:20220508T220000
DTSTAMP:20260420T192117
CREATED:20220225T020449Z
LAST-MODIFIED:20220225T020449Z
UID:3507-1652036400-1652047200@leveloneband.com
SUMMARY:Mainstreet Crossing
DESCRIPTION:
URL:https://leveloneband.com/event/mainstreet-crossing-2/
LOCATION:Mainstreet Crossing
END:VEVENT
BEGIN:VEVENT
DTSTART;TZID=America/Chicago:20220507T210000
DTEND;TZID=America/Chicago:20220508T000000
DTSTAMP:20260420T192117
CREATED:20220430T134321Z
LAST-MODIFIED:20220503T010604Z
UID:3552-1651957200-1651968000@leveloneband.com
SUMMARY:Fireside
DESCRIPTION:
URL:https://leveloneband.com/event/fireside-6/
LOCATION:Fireside Bar & Grill\, 800 Sorella Ct\, Houston\, TX\, 77024\, United States
END:VEVENT
BEGIN:VEVENT
DTSTART;TZID=America/Chicago:20220501T183000
DTEND;TZID=America/Chicago:20220501T204500
DTSTAMP:20260420T192117
CREATED:20220305T223106Z
LAST-MODIFIED:20220305T223106Z
UID:3515-1651429800-1651437900@leveloneband.com
SUMMARY:Bernhardt Winery
DESCRIPTION:
URL:https://leveloneband.com/event/bernhardt-winery/
LOCATION:Bernhardt Winery
END:VEVENT
BEGIN:VEVENT
DTSTART;TZID=America/Chicago:20220402T210000
DTEND;TZID=America/Chicago:20220403T000000
DTSTAMP:20260420T192117
CREATED:20220331T182819Z
LAST-MODIFIED:20220331T182819Z
UID:3537-1648933200-1648944000@leveloneband.com
SUMMARY:Katy Vibes
DESCRIPTION:
URL:https://leveloneband.com/event/katy-vibes-3/
LOCATION:Katy Vibes\, 24757 Katy Frwy Katy\, TX\, 77494\, United States
END:VEVENT
BEGIN:VEVENT
DTSTART;TZID=America/Chicago:20220401T210000
DTEND;TZID=America/Chicago:20220402T000000
DTSTAMP:20260420T192117
CREATED:20211129T143731Z
LAST-MODIFIED:20220112T203818Z
UID:3443-1648846800-1648857600@leveloneband.com
SUMMARY:Pacific Yard
DESCRIPTION:
URL:https://leveloneband.com/event/pacific-yard-2/
LOCATION:Pacific Yard House\, 101 Metcalf St\, Conroe\, TX\, 77301\, United States
END:VEVENT
BEGIN:VEVENT
DTSTART;TZID=America/Chicago:20220327T150000
DTEND;TZID=America/Chicago:20220327T180000
DTSTAMP:20260420T192117
CREATED:20211230T155532Z
LAST-MODIFIED:20211230T155532Z
UID:3479-1648393200-1648404000@leveloneband.com
SUMMARY:Haak Winery
DESCRIPTION:
URL:https://leveloneband.com/event/haak-winery/
LOCATION:Haak Winery\, 6310 Avenue T\, Santa Fe\, TX\, 77510\, United States
END:VEVENT
BEGIN:VEVENT
DTSTART;TZID=America/Chicago:20220325T193000
DTEND;TZID=America/Chicago:20220325T233000
DTSTAMP:20260420T192117
CREATED:20220222T033147Z
LAST-MODIFIED:20220222T033147Z
UID:3504-1648236600-1648251000@leveloneband.com
SUMMARY:Sambuca
DESCRIPTION:
URL:https://leveloneband.com/event/sambuca-8/
LOCATION:Sambuca\, 909 Texas Ave\, Houston\, 77002\, United States
END:VEVENT
BEGIN:VEVENT
DTSTART;TZID=America/Chicago:20220318T210000
DTEND;TZID=America/Chicago:20220319T000000
DTSTAMP:20260420T192117
CREATED:20211129T143655Z
LAST-MODIFIED:20211129T143655Z
UID:3440-1647637200-1647648000@leveloneband.com
SUMMARY:Pacific Yard
DESCRIPTION:
URL:https://leveloneband.com/event/pacific-yard/
LOCATION:Pacific Yard House\, 101 Metcalf St\, Conroe\, TX\, 77301\, United States
END:VEVENT
BEGIN:VEVENT
DTSTART;TZID=America/Chicago:20220311T210000
DTEND;TZID=America/Chicago:20220312T003000
DTSTAMP:20260420T192117
CREATED:20220207T110714Z
LAST-MODIFIED:20220214T163840Z
UID:3501-1647032400-1647045000@leveloneband.com
SUMMARY:Rhythm Room
DESCRIPTION:
URL:https://leveloneband.com/event/rhythm-room/
LOCATION:Rhythm Room\, 5535 Memorial Dr\, Suite G\, Houston\, TX\, 77007\, United States
END:VEVENT
BEGIN:VEVENT
DTSTART;TZID=America/Chicago:20220226T193000
DTEND;TZID=America/Chicago:20220226T233000
DTSTAMP:20260420T192117
CREATED:20220107T010242Z
LAST-MODIFIED:20220107T010242Z
UID:3487-1645903800-1645918200@leveloneband.com
SUMMARY:Sambuca
DESCRIPTION:
URL:https://leveloneband.com/event/sambuca-7/
LOCATION:Sambuca\, 909 Texas Ave\, Houston\, 77002\, United States
END:VEVENT
BEGIN:VEVENT
DTSTART;TZID=America/Chicago:20220219T210000
DTEND;TZID=America/Chicago:20220220T000000
DTSTAMP:20260420T192117
CREATED:20211206T220839Z
LAST-MODIFIED:20211206T220839Z
UID:3463-1645304400-1645315200@leveloneband.com
SUMMARY:Fireside
DESCRIPTION:
URL:https://leveloneband.com/event/fireside-5/
LOCATION:Fireside Bar & Grill\, 800 Sorella Ct\, Houston\, TX\, 77024\, United States
END:VEVENT
BEGIN:VEVENT
DTSTART;TZID=America/Chicago:20220205T210000
DTEND;TZID=America/Chicago:20220206T000000
DTSTAMP:20260420T192117
CREATED:20211013T191957Z
LAST-MODIFIED:20211013T191957Z
UID:3396-1644094800-1644105600@leveloneband.com
SUMMARY:B Jiggers
DESCRIPTION:
URL:https://leveloneband.com/event/b-jiggers-5/
LOCATION:B JIGGERs NIGHT CLUB\, 5002 Seawall Blvd\, Galveston\, TX\, United States
END:VEVENT
BEGIN:VEVENT
DTSTART;TZID=America/Chicago:20220123T153000
DTEND;TZID=America/Chicago:20220123T213000
DTSTAMP:20260420T192117
CREATED:20211022T021853Z
LAST-MODIFIED:20211025T210031Z
UID:3408-1642951800-1642973400@leveloneband.com
SUMMARY:Mainstreet Crossing “Sounds Of Motown”
DESCRIPTION:Doors: 2:00pm\, Show 3:30pm – Get Tickets \nDoors: 6:00pm\, Show 7:30pm – Get Tickets
URL:https://leveloneband.com/event/mainstreet-crossing-sounds-of-motown/
LOCATION:Mainstreet Crossing
END:VEVENT
BEGIN:VEVENT
DTSTART;TZID=America/Chicago:20220122T190000
DTEND;TZID=America/Chicago:20220122T230000
DTSTAMP:20260420T192117
CREATED:20210925T180905Z
LAST-MODIFIED:20210925T180905Z
UID:3386-1642878000-1642892400@leveloneband.com
SUMMARY:Megaton Brewery
DESCRIPTION:
URL:https://leveloneband.com/event/megaton-brewery-2/
LOCATION:Megaton Brewery\, 808 Russell Palmer Road\, Kingwood\, TX\, 77339\, United States
END:VEVENT
BEGIN:VEVENT
DTSTART;TZID=America/Chicago:20220115T150000
DTEND;TZID=America/Chicago:20220115T190000
DTSTAMP:20260420T192117
CREATED:20211204T152354Z
LAST-MODIFIED:20211204T152354Z
UID:3459-1642258800-1642273200@leveloneband.com
SUMMARY:Kemah
DESCRIPTION:
URL:https://leveloneband.com/event/kemah/
LOCATION:Kemah Boardwalk\, 215 Kipp Avenue\, Kemah\, TX\, 77565\, United States
END:VEVENT
BEGIN:VEVENT
DTSTART;TZID=America/Chicago:20220108T193000
DTEND;TZID=America/Chicago:20220108T233000
DTSTAMP:20260420T192117
CREATED:20211201T162608Z
LAST-MODIFIED:20211201T162608Z
UID:3449-1641670200-1641684600@leveloneband.com
SUMMARY:Sambuca
DESCRIPTION:
URL:https://leveloneband.com/event/sambuca-6/
LOCATION:Sambuca\, 909 Texas Ave\, Houston\, 77002\, United States
END:VEVENT
BEGIN:VEVENT
DTSTART;TZID=America/Chicago:20220101T210000
DTEND;TZID=America/Chicago:20220101T233000
DTSTAMP:20260420T192117
CREATED:20211201T162511Z
LAST-MODIFIED:20211201T162511Z
UID:3446-1641070800-1641079800@leveloneband.com
SUMMARY:Fireside
DESCRIPTION:
URL:https://leveloneband.com/event/fireside-3/
LOCATION:Fireside Bar & Grill\, 800 Sorella Ct\, Houston\, TX\, 77024\, United States
END:VEVENT
BEGIN:VEVENT
DTSTART;TZID=America/Chicago:20211231T210000
DTEND;TZID=America/Chicago:20220101T010000
DTSTAMP:20260420T192117
CREATED:20210806T130719Z
LAST-MODIFIED:20211229T142523Z
UID:3346-1640984400-1640998800@leveloneband.com
SUMMARY:B Jiggers
DESCRIPTION:Ticket sales: Please call (409)740-5300 to purchase or go to https://bjiggersnye.eventbrite.com/.
URL:https://leveloneband.com/event/b-jiggers-2/
LOCATION:B JIGGERs NIGHT CLUB\, 5002 Seawall Blvd\, Galveston\, TX\, United States
ATTACH;FMTTYPE=image/jpeg:https://leveloneband.com/wp-content/uploads/2021/08/new-years-2022.jpg
END:VEVENT
BEGIN:VEVENT
DTSTART;TZID=America/Chicago:20211218T210000
DTEND;TZID=America/Chicago:20211219T000000
DTSTAMP:20260420T192117
CREATED:20210722T181319Z
LAST-MODIFIED:20211205T191139Z
UID:3328-1639861200-1639872000@leveloneband.com
SUMMARY:Fireside
DESCRIPTION:
URL:https://leveloneband.com/event/fireside-4/
LOCATION:Fireside Bar & Grill\, 800 Sorella Ct\, Houston\, TX\, 77024\, United States
END:VEVENT
BEGIN:VEVENT
DTSTART;TZID=America/Chicago:20211211T190000
DTEND;TZID=America/Chicago:20211211T230000
DTSTAMP:20260420T192117
CREATED:20210922T030753Z
LAST-MODIFIED:20211101T235339Z
UID:3382-1639249200-1639263600@leveloneband.com
SUMMARY:Hyatt Centric The Woodlands (Private Event)
DESCRIPTION:Private Event
URL:https://leveloneband.com/event/hyatt-centric-the-woodlands/
LOCATION:Hyatt Centric The Woodlands\, 9595 Six Pines\, Ste 1100\, The Woodlands \, TX\, 77380\, United States
END:VEVENT
BEGIN:VEVENT
DTSTART;TZID=America/Chicago:20211204T160000
DTEND;TZID=America/Chicago:20211204T200000
DTSTAMP:20260420T192117
CREATED:20211202T122810Z
LAST-MODIFIED:20211202T122824Z
UID:3452-1638633600-1638648000@leveloneband.com
SUMMARY:Kemah Boardwalk
DESCRIPTION:
URL:https://leveloneband.com/event/kemah-boardwalk-2/
LOCATION:Kemah Boardwalk\, 215 Kipp Avenue\, Kemah\, TX\, 77565\, United States
END:VEVENT
END:VCALENDAR