BEGIN:VCALENDAR
VERSION:2.0
PRODID:-//Level One Band - ECPv6.15.20//NONSGML v1.0//EN
CALSCALE:GREGORIAN
METHOD:PUBLISH
X-WR-CALNAME:Level One Band
X-ORIGINAL-URL:https://leveloneband.com
X-WR-CALDESC:Events for Level One Band
REFRESH-INTERVAL;VALUE=DURATION:PT1H
X-Robots-Tag:noindex
X-PUBLISHED-TTL:PT1H
BEGIN:VTIMEZONE
TZID:America/Chicago
BEGIN:DAYLIGHT
TZOFFSETFROM:-0600
TZOFFSETTO:-0500
TZNAME:CDT
DTSTART:20190310T080000
END:DAYLIGHT
BEGIN:STANDARD
TZOFFSETFROM:-0500
TZOFFSETTO:-0600
TZNAME:CST
DTSTART:20191103T070000
END:STANDARD
BEGIN:DAYLIGHT
TZOFFSETFROM:-0600
TZOFFSETTO:-0500
TZNAME:CDT
DTSTART:20200308T080000
END:DAYLIGHT
BEGIN:STANDARD
TZOFFSETFROM:-0500
TZOFFSETTO:-0600
TZNAME:CST
DTSTART:20201101T070000
END:STANDARD
BEGIN:DAYLIGHT
TZOFFSETFROM:-0600
TZOFFSETTO:-0500
TZNAME:CDT
DTSTART:20210314T080000
END:DAYLIGHT
BEGIN:STANDARD
TZOFFSETFROM:-0500
TZOFFSETTO:-0600
TZNAME:CST
DTSTART:20211107T070000
END:STANDARD
BEGIN:DAYLIGHT
TZOFFSETFROM:-0600
TZOFFSETTO:-0500
TZNAME:CDT
DTSTART:20220313T080000
END:DAYLIGHT
BEGIN:STANDARD
TZOFFSETFROM:-0500
TZOFFSETTO:-0600
TZNAME:CST
DTSTART:20221106T070000
END:STANDARD
END:VTIMEZONE
BEGIN:VEVENT
DTSTART;TZID=America/Chicago:20210731T190000
DTEND;TZID=America/Chicago:20210731T230000
DTSTAMP:20260420T165449
CREATED:20210629T181559Z
LAST-MODIFIED:20210629T181559Z
UID:3308-1627758000-1627772400@leveloneband.com
SUMMARY:Nicks
DESCRIPTION:
URL:https://leveloneband.com/event/nicks/
LOCATION:Nicks Kitchen\, 3828 Seawall Blvd\, Galveston\, TX\, 77550\, United States
END:VEVENT
BEGIN:VEVENT
DTSTART;TZID=America/Chicago:20210724T190000
DTEND;TZID=America/Chicago:20210724T230000
DTSTAMP:20260420T165449
CREATED:20210414T163715Z
LAST-MODIFIED:20210414T163715Z
UID:3280-1627153200-1627167600@leveloneband.com
SUMMARY:Megaton Brewery
DESCRIPTION:
URL:https://leveloneband.com/event/megaton-brewery/
LOCATION:Megaton Brewery\, 808 Russell Palmer Road\, Kingwood\, TX\, 77339\, United States
END:VEVENT
BEGIN:VEVENT
DTSTART;TZID=America/Chicago:20210717T200000
DTEND;TZID=America/Chicago:20210717T200000
DTSTAMP:20260420T165449
CREATED:20210408T142742Z
LAST-MODIFIED:20210408T142742Z
UID:3197-1626552000-1626552000@leveloneband.com
SUMMARY:Playground
DESCRIPTION:
URL:https://leveloneband.com/event/playground/
LOCATION:Playground Patio Bar\, 2325 Strand St\, Galveston\, TX\, 77550\, United States
END:VEVENT
BEGIN:VEVENT
DTSTART;TZID=America/Chicago:20210716T210000
DTEND;TZID=America/Chicago:20210716T210000
DTSTAMP:20260420T165449
CREATED:20210408T142810Z
LAST-MODIFIED:20210408T142810Z
UID:3200-1626469200-1626469200@leveloneband.com
SUMMARY:Jiggers
DESCRIPTION:
URL:https://leveloneband.com/event/jiggers/
LOCATION:B JIGGERs NIGHT CLUB\, 5002 Seawall Blvd\, Galveston\, TX\, United States
END:VEVENT
BEGIN:VEVENT
DTSTART;TZID=America/Chicago:20210710T210000
DTEND;TZID=America/Chicago:20210710T230000
DTSTAMP:20260420T165449
CREATED:20210429T133843Z
LAST-MODIFIED:20210429T133843Z
UID:3286-1625950800-1625958000@leveloneband.com
SUMMARY:Fireside Bar & Grill
DESCRIPTION:
URL:https://leveloneband.com/event/fireside-bar-grill/
LOCATION:Fireside Bar & Grill\, 800 Sorella Ct\, Houston\, TX\, 77024\, United States
END:VEVENT
BEGIN:VEVENT
DTSTART;TZID=America/Chicago:20210704T180000
DTEND;TZID=America/Chicago:20210704T213000
DTSTAMP:20260420T165449
CREATED:20210608T140055Z
LAST-MODIFIED:20210608T140055Z
UID:3303-1625421600-1625434200@leveloneband.com
SUMMARY:Red\, Hot & Blue Festival & Fireworks Extravaganza
DESCRIPTION:
URL:https://leveloneband.com/event/red-hot-blue-festival-fireworks-extravaganza/
LOCATION:Northshore Park\, 2505 Lake Robbins Dr\, The Woodlands\, 2505 Lake Robbins Dr\, United States
END:VEVENT
BEGIN:VEVENT
DTSTART;TZID=America/Chicago:20210703T210000
DTEND;TZID=America/Chicago:20210704T000000
DTSTAMP:20260420T165449
CREATED:20210225T193701Z
LAST-MODIFIED:20210607T121323Z
UID:3163-1625346000-1625356800@leveloneband.com
SUMMARY:Pacific Yard House
DESCRIPTION:
URL:https://leveloneband.com/event/pacific-yard-house/
LOCATION:Pacific Yard House\, 101 Metcalf St\, Conroe\, TX\, 77301\, United States
ATTACH;FMTTYPE=image/jpeg:https://leveloneband.com/wp-content/uploads/2020/03/level-one-band-promo-01.jpg
END:VEVENT
BEGIN:VEVENT
DTSTART;TZID=America/Chicago:20210702T210000
DTEND;TZID=America/Chicago:20210703T010000
DTSTAMP:20260420T165449
CREATED:20210701T001024Z
LAST-MODIFIED:20210701T001024Z
UID:3316-1625259600-1625274000@leveloneband.com
SUMMARY:Rose Rooftop Lounge
DESCRIPTION:
URL:https://leveloneband.com/event/rose-rooftop-lounge/
LOCATION:Rose Rooftop\, 20 Waterway Ave #200\, Spring\, TX\, 77380\, United States
END:VEVENT
BEGIN:VEVENT
DTSTART;TZID=America/Chicago:20210626T183000
DTEND;TZID=America/Chicago:20210626T203000
DTSTAMP:20260420T165449
CREATED:20210210T201329Z
LAST-MODIFIED:20210210T201329Z
UID:3157-1624732200-1624739400@leveloneband.com
SUMMARY:Waterway Nights - Summer Series
DESCRIPTION:
URL:https://leveloneband.com/event/waterway-nights-summer-series/
LOCATION:Waterway Square – The Woodlands\, 31 Waterway Square Place\, The Woodlands\, 77380
END:VEVENT
BEGIN:VEVENT
DTSTART;TZID=America/Chicago:20210619T180000
DTEND;TZID=America/Chicago:20210619T220000
DTSTAMP:20260420T165449
CREATED:20210208T140557Z
LAST-MODIFIED:20210208T140557Z
UID:3154-1624125600-1624140000@leveloneband.com
SUMMARY:Kemah Boardwalk
DESCRIPTION:Plaza Stage
URL:https://leveloneband.com/event/kemah-boardwalk/
LOCATION:Kemah Boardwalk\, 215 Kipp Avenue\, Kemah\, TX\, 77565\, United States
END:VEVENT
BEGIN:VEVENT
DTSTART;TZID=America/Chicago:20210605T190000
DTEND;TZID=America/Chicago:20210605T230000
DTSTAMP:20260420T165449
CREATED:20210603T212259Z
LAST-MODIFIED:20210603T212259Z
UID:3297-1622919600-1622934000@leveloneband.com
SUMMARY:Sambuca
DESCRIPTION:
URL:https://leveloneband.com/event/sambuca/
LOCATION:Sambuca\, 909 Texas Ave\, Houston\, 77002\, United States
END:VEVENT
BEGIN:VEVENT
DTSTART;TZID=America/Chicago:20210530T210000
DTEND;TZID=America/Chicago:20210530T230000
DTSTAMP:20260420T165449
CREATED:20210429T135148Z
LAST-MODIFIED:20210429T135148Z
UID:3290-1622408400-1622415600@leveloneband.com
SUMMARY:Nick's Bar
DESCRIPTION:
URL:https://leveloneband.com/event/nicks-bar/
LOCATION:Nicks Kitchen\, 3828 Seawall Blvd\, Galveston\, TX\, 77550\, United States
END:VEVENT
BEGIN:VEVENT
DTSTART;TZID=America/Chicago:20210522T200000
DTEND;TZID=America/Chicago:20210522T200000
DTSTAMP:20260420T165449
CREATED:20210408T142834Z
LAST-MODIFIED:20210408T142834Z
UID:3203-1621713600-1621713600@leveloneband.com
SUMMARY:Playground
DESCRIPTION:
URL:https://leveloneband.com/event/playground-2/
LOCATION:Playground Patio Bar\, 2325 Strand St\, Galveston\, TX\, 77550\, United States
END:VEVENT
BEGIN:VEVENT
DTSTART;TZID=America/Chicago:20210514T200000
DTEND;TZID=America/Chicago:20210514T230000
DTSTAMP:20260420T165449
CREATED:20210401T021214Z
LAST-MODIFIED:20210401T133113Z
UID:3180-1621022400-1621033200@leveloneband.com
SUMMARY:Mainstreet Crossing
DESCRIPTION:
URL:https://leveloneband.com/event/mainstreet-crossing/
LOCATION:Mainstreet Crossing
END:VEVENT
BEGIN:VEVENT
DTSTART;TZID=America/Chicago:20210508T210000
DTEND;TZID=America/Chicago:20210508T210000
DTSTAMP:20260420T165449
CREATED:20210405T170122Z
LAST-MODIFIED:20210405T170122Z
UID:3191-1620507600-1620507600@leveloneband.com
SUMMARY:B Jiggers
DESCRIPTION:
URL:https://leveloneband.com/event/b-jiggers/
LOCATION:B JIGGERs NIGHT CLUB\, 5002 Seawall Blvd\, Galveston\, TX\, United States
END:VEVENT
BEGIN:VEVENT
DTSTART;TZID=America/Chicago:20210501T210000
DTEND;TZID=America/Chicago:20210502T003000
DTSTAMP:20260420T165449
CREATED:20210401T021136Z
LAST-MODIFIED:20210401T021136Z
UID:3177-1619902800-1619915400@leveloneband.com
SUMMARY:Hotel Moran Fireside
DESCRIPTION:
URL:https://leveloneband.com/event/hotel-moran-fireside-2/
LOCATION:Hotel Moran Fireside\, 800 Sorella Ct\, Houston\, TX\, 77024\, United States
END:VEVENT
BEGIN:VEVENT
DTSTART;TZID=America/Chicago:20210430T210000
DTEND;TZID=America/Chicago:20210430T230000
DTSTAMP:20260420T165449
CREATED:20210408T204307Z
LAST-MODIFIED:20210430T171048Z
UID:3210-1619816400-1619823600@leveloneband.com
SUMMARY:Rose Rooftop Cancelled
DESCRIPTION:This event has been cancelled due to possible flooding.
URL:https://leveloneband.com/event/rose-rooftop/
LOCATION:Rose Rooftop\, 20 Waterway Ave #200\, Spring\, TX\, 77380\, United States
END:VEVENT
BEGIN:VEVENT
DTSTART;TZID=America/Chicago:20210411T180000
DTEND;TZID=America/Chicago:20210411T210000
DTSTAMP:20260420T165449
CREATED:20210405T170046Z
LAST-MODIFIED:20210405T170046Z
UID:3187-1618164000-1618174800@leveloneband.com
SUMMARY:Haaks Winery
DESCRIPTION:
URL:https://leveloneband.com/event/haaks-winery/
LOCATION:Haaks Winery\, 6310 Avenue T\, Santa Fe\, TX\, 77510\, United States
END:VEVENT
BEGIN:VEVENT
DTSTART;TZID=America/Chicago:20210402T210000
DTEND;TZID=America/Chicago:20210403T003000
DTSTAMP:20260420T165450
CREATED:20210401T021058Z
LAST-MODIFIED:20210401T021058Z
UID:3174-1617397200-1617409800@leveloneband.com
SUMMARY:Hotel Moran Fireside
DESCRIPTION:
URL:https://leveloneband.com/event/hotel-moran-fireside/
LOCATION:Hotel Moran Fireside\, 800 Sorella Ct\, Houston\, TX\, 77024\, United States
END:VEVENT
BEGIN:VEVENT
DTSTART;TZID=America/Chicago:20210329T080000
DTEND;TZID=America/Chicago:20210329T170000
DTSTAMP:20260420T165450
CREATED:20201211T194048Z
LAST-MODIFIED:20201211T194048Z
UID:3134-1617004800-1617037200@leveloneband.com
SUMMARY:RESERVED
DESCRIPTION:
URL:https://leveloneband.com/event/reserved-10/
END:VEVENT
BEGIN:VEVENT
DTSTART;TZID=America/Chicago:20210320T210000
DTEND;TZID=America/Chicago:20210320T210000
DTSTAMP:20260420T165450
CREATED:20201201T155608Z
LAST-MODIFIED:20201201T155608Z
UID:3104-1616274000-1616274000@leveloneband.com
SUMMARY:RESERVED
DESCRIPTION:
URL:https://leveloneband.com/event/reserved-4/
LOCATION:B JIGGERs NIGHT CLUB\, 5002 Seawall Blvd\, Galveston\, TX\, United States
END:VEVENT
BEGIN:VEVENT
DTSTART;VALUE=DATE:20210320
DTEND;VALUE=DATE:20210321
DTSTAMP:20260420T165450
CREATED:20201201T155718Z
LAST-MODIFIED:20201201T155729Z
UID:3107-1616198400-1616284799@leveloneband.com
SUMMARY:RESERVED
DESCRIPTION:
URL:https://leveloneband.com/event/reserved-5/
LOCATION:Mambo Kings
END:VEVENT
BEGIN:VEVENT
DTSTART;VALUE=DATE:20210227
DTEND;VALUE=DATE:20210228
DTSTAMP:20260420T165450
CREATED:20201121T064529Z
LAST-MODIFIED:20201121T064529Z
UID:3082-1614384000-1614470399@leveloneband.com
SUMMARY:RESERVED
DESCRIPTION:
URL:https://leveloneband.com/event/reserved-2/
ATTACH;FMTTYPE=image/jpeg:https://leveloneband.com/wp-content/uploads/2020/10/level-one-band-logo-favicon.jpg
END:VEVENT
BEGIN:VEVENT
DTSTART;VALUE=DATE:20210206
DTEND;VALUE=DATE:20210207
DTSTAMP:20260420T165450
CREATED:20201121T021715Z
LAST-MODIFIED:20201121T021715Z
UID:3073-1612569600-1612655999@leveloneband.com
SUMMARY:RESERVED
DESCRIPTION:
URL:https://leveloneband.com/event/reserved/
ATTACH;FMTTYPE=image/jpeg:https://leveloneband.com/wp-content/uploads/2020/10/level-one-band-logo-favicon.jpg
END:VEVENT
BEGIN:VEVENT
DTSTART;TZID=America/Chicago:20210123T210000
DTEND;TZID=America/Chicago:20210123T233000
DTSTAMP:20260420T165450
CREATED:20210104T143155Z
LAST-MODIFIED:20210104T143155Z
UID:3138-1611435600-1611444600@leveloneband.com
SUMMARY:Event
DESCRIPTION:
URL:https://leveloneband.com/event/event/
END:VEVENT
BEGIN:VEVENT
DTSTART;TZID=America/Chicago:20210123T210000
DTEND;TZID=America/Chicago:20210123T210000
DTSTAMP:20260420T165450
CREATED:20210113T163839Z
LAST-MODIFIED:20210113T163839Z
UID:3151-1611435600-1611435600@leveloneband.com
SUMMARY:Katy Vibes
DESCRIPTION:
URL:https://leveloneband.com/event/katy-vibes/
LOCATION:Katy Vibes\, 24757 Katy Frwy Katy\, TX\, 77494\, United States
END:VEVENT
BEGIN:VEVENT
DTSTART;TZID=America/Chicago:20210116T080000
DTEND;TZID=America/Chicago:20210116T170000
DTSTAMP:20260420T165450
CREATED:20201211T194030Z
LAST-MODIFIED:20201211T194030Z
UID:3131-1610784000-1610816400@leveloneband.com
SUMMARY:RESERVED
DESCRIPTION:
URL:https://leveloneband.com/event/reserved-9/
END:VEVENT
BEGIN:VEVENT
DTSTART;TZID=America/Chicago:20210115T200000
DTEND;TZID=America/Chicago:20210115T200000
DTSTAMP:20260420T165450
CREATED:20201121T063531Z
LAST-MODIFIED:20201121T063857Z
UID:3078-1610740800-1610740800@leveloneband.com
SUMMARY:GARAGE BAR AND GRILL
DESCRIPTION:
URL:https://leveloneband.com/event/garage-bar/
ATTACH;FMTTYPE=image/jpeg:https://leveloneband.com/wp-content/uploads/2020/03/level-one-band-promo-01.jpg
END:VEVENT
BEGIN:VEVENT
DTSTART;TZID=America/Chicago:20201231T193000
DTEND;TZID=America/Chicago:20201231T193000
DTSTAMP:20260420T165450
CREATED:20200304T192153Z
LAST-MODIFIED:20201130T163008Z
UID:2294-1609443000-1609443000@leveloneband.com
SUMMARY:MAINSTREET CROSSING
DESCRIPTION:Get Tickets
URL:https://leveloneband.com/event/mainstreet-crossing-5/
LOCATION:Main Street Crossing\, 111 West Main Street\, Tomball\, TX\, 77375\, United States
ATTACH;FMTTYPE=image/png:https://leveloneband.com/wp-content/uploads/2020/03/main-street-live-music-sign.png
END:VEVENT
BEGIN:VEVENT
DTSTART;TZID=America/Chicago:20201227T190000
DTEND;TZID=America/Chicago:20201227T223000
DTSTAMP:20260420T165450
CREATED:20201203T184127Z
LAST-MODIFIED:20201203T184127Z
UID:3118-1609095600-1609108200@leveloneband.com
SUMMARY:Blue Moon Farm
DESCRIPTION:
URL:https://leveloneband.com/event/blue-moon-farm/
LOCATION:Blue Moon Farm\, 509 Springwood Dr.\, Conroe\, TX\, 77385\, United States
END:VEVENT
END:VCALENDAR