BEGIN:VCALENDAR
VERSION:2.0
PRODID:-//Level One Band - ECPv6.15.20//NONSGML v1.0//EN
CALSCALE:GREGORIAN
METHOD:PUBLISH
X-WR-CALNAME:Level One Band
X-ORIGINAL-URL:https://leveloneband.com
X-WR-CALDESC:Events for Level One Band
REFRESH-INTERVAL;VALUE=DURATION:PT1H
X-Robots-Tag:noindex
X-PUBLISHED-TTL:PT1H
BEGIN:VTIMEZONE
TZID:America/Chicago
BEGIN:DAYLIGHT
TZOFFSETFROM:-0600
TZOFFSETTO:-0500
TZNAME:CDT
DTSTART:20210314T080000
END:DAYLIGHT
BEGIN:STANDARD
TZOFFSETFROM:-0500
TZOFFSETTO:-0600
TZNAME:CST
DTSTART:20211107T070000
END:STANDARD
BEGIN:DAYLIGHT
TZOFFSETFROM:-0600
TZOFFSETTO:-0500
TZNAME:CDT
DTSTART:20220313T080000
END:DAYLIGHT
BEGIN:STANDARD
TZOFFSETFROM:-0500
TZOFFSETTO:-0600
TZNAME:CST
DTSTART:20221106T070000
END:STANDARD
BEGIN:DAYLIGHT
TZOFFSETFROM:-0600
TZOFFSETTO:-0500
TZNAME:CDT
DTSTART:20230312T080000
END:DAYLIGHT
BEGIN:STANDARD
TZOFFSETFROM:-0500
TZOFFSETTO:-0600
TZNAME:CST
DTSTART:20231105T070000
END:STANDARD
BEGIN:DAYLIGHT
TZOFFSETFROM:-0600
TZOFFSETTO:-0500
TZNAME:CDT
DTSTART:20240310T080000
END:DAYLIGHT
BEGIN:STANDARD
TZOFFSETFROM:-0500
TZOFFSETTO:-0600
TZNAME:CST
DTSTART:20241103T070000
END:STANDARD
END:VTIMEZONE
BEGIN:VEVENT
DTSTART;TZID=America/Chicago:20231126T193000
DTEND;TZID=America/Chicago:20231126T223000
DTSTAMP:20260419T214234
CREATED:20231104T185929Z
LAST-MODIFIED:20231104T185929Z
UID:3797-1701027000-1701037800@leveloneband.com
SUMMARY:Club Showtime
DESCRIPTION:
URL:https://leveloneband.com/event/club-showtime-2/
LOCATION:Club Showtime\, 3608 Crane St\, Houston\, TX\, 77026\, United States
END:VEVENT
BEGIN:VEVENT
DTSTART;TZID=America/Chicago:20231111T190000
DTEND;TZID=America/Chicago:20231111T230000
DTSTAMP:20260419T214234
CREATED:20230509T143859Z
LAST-MODIFIED:20230509T143939Z
UID:3715-1699729200-1699743600@leveloneband.com
SUMMARY:Autism Event
DESCRIPTION:
URL:https://leveloneband.com/event/autism-event/
END:VEVENT
BEGIN:VEVENT
DTSTART;TZID=America/Chicago:20231110T190000
DTEND;TZID=America/Chicago:20231110T220000
DTSTAMP:20260419T214234
CREATED:20230912T163528Z
LAST-MODIFIED:20230912T163528Z
UID:3776-1699642800-1699653600@leveloneband.com
SUMMARY:Hockly\, Texas
DESCRIPTION:
URL:https://leveloneband.com/event/hockly-texas/
END:VEVENT
BEGIN:VEVENT
DTSTART;TZID=America/Chicago:20231028T210000
DTEND;TZID=America/Chicago:20231029T000000
DTSTAMP:20260419T214234
CREATED:20230720T195937Z
LAST-MODIFIED:20230720T195937Z
UID:3750-1698526800-1698537600@leveloneband.com
SUMMARY:FireSide
DESCRIPTION:
URL:https://leveloneband.com/event/fireside-13/
LOCATION:Fireside Bar & Grill\, 800 Sorella Ct\, Houston\, TX\, 77024\, United States
END:VEVENT
BEGIN:VEVENT
DTSTART;TZID=America/Chicago:20230930T180000
DTEND;TZID=America/Chicago:20230930T210000
DTSTAMP:20260419T214234
CREATED:20230824T122816Z
LAST-MODIFIED:20230824T122816Z
UID:3770-1696096800-1696107600@leveloneband.com
SUMMARY:Sugarland Town Square
DESCRIPTION:
URL:https://leveloneband.com/event/sugarland-town-square/
LOCATION:Sugarland Town Square\, 2711 Plaza Drive\, Sugarland\, TX\, 77479\, United States
END:VEVENT
BEGIN:VEVENT
DTSTART;TZID=America/Chicago:20230923T140000
DTEND;TZID=America/Chicago:20230923T170000
DTSTAMP:20260419T214234
CREATED:20230616T190935Z
LAST-MODIFIED:20230616T190935Z
UID:3746-1695477600-1695488400@leveloneband.com
SUMMARY:U of H Tailgate Party
DESCRIPTION:
URL:https://leveloneband.com/event/u-of-h-tailgate-party/
LOCATION:U of H\, 3874 Holman St\, Houston\, TX\, 77004\, United States
END:VEVENT
BEGIN:VEVENT
DTSTART;TZID=America/Chicago:20230922T200000
DTEND;TZID=America/Chicago:20230923T000000
DTSTAMP:20260419T214234
CREATED:20230821T132747Z
LAST-MODIFIED:20230821T132747Z
UID:3756-1695412800-1695427200@leveloneband.com
SUMMARY:SamBuca
DESCRIPTION:
URL:https://leveloneband.com/event/sambuca-17/
LOCATION:Sambuca\, 909 Texas Ave\, Houston\, 77002\, United States
END:VEVENT
BEGIN:VEVENT
DTSTART;TZID=America/Chicago:20230909T190000
DTEND;TZID=America/Chicago:20230909T210000
DTSTAMP:20260419T214234
CREATED:20230824T122706Z
LAST-MODIFIED:20230824T122945Z
UID:3761-1694286000-1694293200@leveloneband.com
SUMMARY:Lake Eldridge
DESCRIPTION:
URL:https://leveloneband.com/event/lake-eldridge/
LOCATION:Lakes Of Eldridge\, 12115 Catalina Shores Dr\, Houston\, TX\, 77041\, United States
END:VEVENT
BEGIN:VEVENT
DTSTART;TZID=America/Chicago:20230903T170000
DTEND;TZID=America/Chicago:20230903T210000
DTSTAMP:20260419T214234
CREATED:20230605T170244Z
LAST-MODIFIED:20230605T170244Z
UID:3737-1693760400-1693774800@leveloneband.com
SUMMARY:Labor Day\, September 3rd\, The Woodlands
DESCRIPTION:
URL:https://leveloneband.com/event/labor-day-september-3rd-the-woodlands/
LOCATION:Waterway Square – The Woodlands\, 31 Waterway Square Place\, The Woodlands\, 77380
END:VEVENT
BEGIN:VEVENT
DTSTART;TZID=America/Chicago:20230812T210000
DTEND;TZID=America/Chicago:20230813T000000
DTSTAMP:20260419T214234
CREATED:20230127T131837Z
LAST-MODIFIED:20230127T132105Z
UID:3686-1691874000-1691884800@leveloneband.com
SUMMARY:Pacific Yard
DESCRIPTION:
URL:https://leveloneband.com/event/pacific-yard-4/
LOCATION:Pacific Yard House\, 101 Metcalf St\, Conroe\, TX\, 77301\, United States
END:VEVENT
BEGIN:VEVENT
DTSTART;TZID=America/Chicago:20230714T200000
DTEND;TZID=America/Chicago:20230715T000000
DTSTAMP:20260419T214234
CREATED:20230620T121344Z
LAST-MODIFIED:20230620T121344Z
UID:3748-1689364800-1689379200@leveloneband.com
SUMMARY:SamBuca
DESCRIPTION:
URL:https://leveloneband.com/event/sambuca-16/
LOCATION:Sambuca\, 909 Texas Ave\, Houston\, 77002\, United States
END:VEVENT
BEGIN:VEVENT
DTSTART;TZID=America/Chicago:20230709T183000
DTEND;TZID=America/Chicago:20230709T204500
DTSTAMP:20260419T214234
CREATED:20220915T194353Z
LAST-MODIFIED:20230514T191923Z
UID:3651-1688927400-1688935500@leveloneband.com
SUMMARY:Bernhardt Winery
DESCRIPTION:
URL:https://leveloneband.com/event/bernhardt-winery-2/
LOCATION:Bernhardt Winery
END:VEVENT
BEGIN:VEVENT
DTSTART;TZID=America/Chicago:20230704T170000
DTEND;TZID=America/Chicago:20230704T210000
DTSTAMP:20260419T214234
CREATED:20230304T193741Z
LAST-MODIFIED:20230304T193741Z
UID:3701-1688490000-1688504400@leveloneband.com
SUMMARY:Northshore Park
DESCRIPTION:
URL:https://leveloneband.com/event/northshore-park/
LOCATION:Northshore Park\, 2505 Lake Robbins Dr\, The Woodlands\, 2505 Lake Robbins Dr\, United States
END:VEVENT
BEGIN:VEVENT
DTSTART;TZID=America/Chicago:20230624T200000
DTEND;TZID=America/Chicago:20230625T000000
DTSTAMP:20260419T214234
CREATED:20230503T174133Z
LAST-MODIFIED:20230503T174133Z
UID:3713-1687636800-1687651200@leveloneband.com
SUMMARY:SamBuca
DESCRIPTION:
URL:https://leveloneband.com/event/sambuca-15/
LOCATION:Sambuca\, 909 Texas Ave\, Houston\, 77002\, United States
END:VEVENT
BEGIN:VEVENT
DTSTART;TZID=America/Chicago:20230623T210000
DTEND;TZID=America/Chicago:20230624T000000
DTSTAMP:20260419T214234
CREATED:20230420T160436Z
LAST-MODIFIED:20230420T160436Z
UID:3711-1687554000-1687564800@leveloneband.com
SUMMARY:FireSide
DESCRIPTION:
URL:https://leveloneband.com/event/fireside-12/
LOCATION:Fireside Bar & Grill\, 800 Sorella Ct\, Houston\, TX\, 77024\, United States
END:VEVENT
BEGIN:VEVENT
DTSTART;VALUE=DATE:20230617
DTEND;VALUE=DATE:20230618
DTSTAMP:20260419T214234
CREATED:20230323T134228Z
LAST-MODIFIED:20230323T134228Z
UID:3707-1686960000-1687046399@leveloneband.com
SUMMARY:Texas City
DESCRIPTION:
URL:https://leveloneband.com/event/texas-city/
END:VEVENT
BEGIN:VEVENT
DTSTART;TZID=America/Chicago:20230603T210000
DTEND;TZID=America/Chicago:20230604T000000
DTSTAMP:20260419T214234
CREATED:20230127T131815Z
LAST-MODIFIED:20230127T132038Z
UID:3684-1685826000-1685836800@leveloneband.com
SUMMARY:Pacific Yard
DESCRIPTION:
URL:https://leveloneband.com/event/pacific-yard-3/
LOCATION:Pacific Yard House\, 101 Metcalf St\, Conroe\, TX\, 77301\, United States
END:VEVENT
BEGIN:VEVENT
DTSTART;TZID=America/Chicago:20230527T210000
DTEND;TZID=America/Chicago:20230528T010000
DTSTAMP:20260419T214234
CREATED:20230313T232323Z
LAST-MODIFIED:20230313T232323Z
UID:3705-1685221200-1685235600@leveloneband.com
SUMMARY:B Jiggers
DESCRIPTION:
URL:https://leveloneband.com/event/b-jiggers-11/
LOCATION:B JIGGERs NIGHT CLUB\, 5002 Seawall Blvd\, Galveston\, TX\, United States
END:VEVENT
BEGIN:VEVENT
DTSTART;TZID=America/Chicago:20230520T210000
DTEND;TZID=America/Chicago:20230521T010000
DTSTAMP:20260419T214234
CREATED:20230513T015127Z
LAST-MODIFIED:20230513T015127Z
UID:3721-1684616400-1684630800@leveloneband.com
SUMMARY:Daryl's Place
DESCRIPTION:
URL:https://leveloneband.com/event/daryls-place/
LOCATION:Daryl’s Place\, 3330 Avenue A\, Santa Fe\, TX\, 77510\, United States
END:VEVENT
BEGIN:VEVENT
DTSTART;TZID=America/Chicago:20230519T183000
DTEND;TZID=America/Chicago:20230519T203000
DTSTAMP:20260419T214234
CREATED:20230516T103001Z
LAST-MODIFIED:20230516T103001Z
UID:3727-1684521000-1684528200@leveloneband.com
SUMMARY:Rob Fleming Park
DESCRIPTION:
URL:https://leveloneband.com/event/rob-fleming-park/
LOCATION:Rob Fleming Park\, 6055 Creekside Forest Dr\, Spring\, TX\, 77389\, United States
END:VEVENT
BEGIN:VEVENT
DTSTART;VALUE=DATE:20230519
DTEND;VALUE=DATE:20230520
DTSTAMP:20260419T214234
CREATED:20221212T140630Z
LAST-MODIFIED:20230411T145535Z
UID:3672-1684454400-1684540799@leveloneband.com
SUMMARY:The Woodlands
DESCRIPTION:Location TBA
URL:https://leveloneband.com/event/the-woodlands/
END:VEVENT
BEGIN:VEVENT
DTSTART;TZID=America/Chicago:20230513T130000
DTEND;TZID=America/Chicago:20230513T210000
DTSTAMP:20260419T214234
CREATED:20230125T234005Z
LAST-MODIFIED:20230125T234005Z
UID:3682-1683982800-1684011600@leveloneband.com
SUMMARY:Kemah Boardwalk
DESCRIPTION:
URL:https://leveloneband.com/event/kemah-boardwalk-3/
LOCATION:Kemah Boardwalk\, 215 Kipp Avenue\, Kemah\, TX\, 77565\, United States
END:VEVENT
BEGIN:VEVENT
DTSTART;TZID=America/Chicago:20230422T210000
DTEND;TZID=America/Chicago:20230423T000000
DTSTAMP:20260419T214234
CREATED:20230215T205036Z
LAST-MODIFIED:20230215T205036Z
UID:3692-1682197200-1682208000@leveloneband.com
SUMMARY:FireSide
DESCRIPTION:
URL:https://leveloneband.com/event/fireside-11/
LOCATION:Fireside Bar & Grill\, 800 Sorella Ct\, Houston\, TX\, 77024\, United States
END:VEVENT
BEGIN:VEVENT
DTSTART;TZID=America/Chicago:20230325T200000
DTEND;TZID=America/Chicago:20230326T000000
DTSTAMP:20260419T214234
CREATED:20230124T191415Z
LAST-MODIFIED:20230124T191415Z
UID:3680-1679774400-1679788800@leveloneband.com
SUMMARY:SamBuca
DESCRIPTION:
URL:https://leveloneband.com/event/sambuca-14/
LOCATION:Sambuca\, 909 Texas Ave\, Houston\, 77002\, United States
END:VEVENT
BEGIN:VEVENT
DTSTART;TZID=America/Chicago:20230318T180000
DTEND;TZID=America/Chicago:20230318T210000
DTSTAMP:20260419T214234
CREATED:20220729T174716Z
LAST-MODIFIED:20220729T174716Z
UID:3607-1679162400-1679173200@leveloneband.com
SUMMARY:Wild Stallion Vineyard
DESCRIPTION:
URL:https://leveloneband.com/event/wild-stallion-vineyard/
LOCATION:Wild Stallion Vineyard\, 5969 W Rayford Rd\, Spring\, TX\, 77389\, United States
END:VEVENT
BEGIN:VEVENT
DTSTART;TZID=America/Chicago:20230310T210000
DTEND;TZID=America/Chicago:20230311T000000
DTSTAMP:20260419T214234
CREATED:20230106T180410Z
LAST-MODIFIED:20230106T180410Z
UID:3678-1678482000-1678492800@leveloneband.com
SUMMARY:FireSide
DESCRIPTION:
URL:https://leveloneband.com/event/fireside-10/
LOCATION:Fireside Bar & Grill\, 800 Sorella Ct\, Houston\, TX\, 77024\, United States
END:VEVENT
BEGIN:VEVENT
DTSTART;TZID=America/Chicago:20230225T210000
DTEND;TZID=America/Chicago:20230226T000000
DTSTAMP:20260419T214234
CREATED:20221103T235601Z
LAST-MODIFIED:20221103T235601Z
UID:3659-1677358800-1677369600@leveloneband.com
SUMMARY:B Jiggers
DESCRIPTION:
URL:https://leveloneband.com/event/b-jiggers-9/
LOCATION:B JIGGERs NIGHT CLUB\, 5002 Seawall Blvd\, Galveston\, TX\, United States
END:VEVENT
BEGIN:VEVENT
DTSTART;TZID=America/Chicago:20230218T210000
DTEND;TZID=America/Chicago:20230219T000000
DTSTAMP:20260419T214234
CREATED:20230202T220303Z
LAST-MODIFIED:20230202T220303Z
UID:3688-1676754000-1676764800@leveloneband.com
SUMMARY:Rhythm Room
DESCRIPTION:
URL:https://leveloneband.com/event/rhythm-room-5/
LOCATION:Rhythm Room\, 5535 Memorial Dr\, Suite G\, Houston\, TX\, 77007\, United States
END:VEVENT
BEGIN:VEVENT
DTSTART;TZID=America/Chicago:20230127T200000
DTEND;TZID=America/Chicago:20230128T000000
DTSTAMP:20260419T214234
CREATED:20221212T173146Z
LAST-MODIFIED:20221212T173146Z
UID:3676-1674849600-1674864000@leveloneband.com
SUMMARY:SamBuca
DESCRIPTION:
URL:https://leveloneband.com/event/sambuca-13/
LOCATION:Sambuca\, 909 Texas Ave\, Houston\, 77002\, United States
END:VEVENT
BEGIN:VEVENT
DTSTART;TZID=America/Chicago:20221223T210000
DTEND;TZID=America/Chicago:20221224T000000
DTSTAMP:20260419T214234
CREATED:20221203T124429Z
LAST-MODIFIED:20221203T124730Z
UID:3667-1671829200-1671840000@leveloneband.com
SUMMARY:FireSide
DESCRIPTION:
URL:https://leveloneband.com/event/fireside-9/
LOCATION:Fireside Bar & Grill\, 800 Sorella Ct\, Houston\, TX\, 77024\, United States
END:VEVENT
END:VCALENDAR